BEGIN:VCALENDAR
PRODID:-//eluceo/ical//2.0/EN
VERSION:2.0
CALSCALE:GREGORIAN
BEGIN:VEVENT
UID:19d3f0b42d2098bf31225f3eeb96379f
DTSTAMP:20260419T190836Z
SUMMARY:Becoming Involved with State Government
DESCRIPTION:Jewish Federation of the Berkshires\nJewish Federation of the B
 erkshires\nhttps://jewishberkshires.org/jewish-federation-of-the-berkshire
 s/becoming-involved-with-state-government-231447\n\nThe Jewish Federation 
 Connecting with Community program presents "Becoming Involved with State G
 overnment" with Representative Tricia Farley-Bouvier\, MA State Representa
 tive (D-Pittsfield).
DTSTART;TZID=America/New_York:20170626T104500
DTEND;TZID=America/New_York:20170626T120000
END:VEVENT
END:VCALENDAR
