BEGIN:VCALENDAR
PRODID:-//eluceo/ical//2.0/EN
VERSION:2.0
CALSCALE:GREGORIAN
BEGIN:VEVENT
UID:9e19c8b82f1b93979c2886a9796e106d
DTSTAMP:20260424T024414Z
SUMMARY:As Shaky as a Fiddler on the Roof
DESCRIPTION:Jewish Federation of the Berkshires\nJewish Federation of the B
 erkshires\nhttps://jewishberkshires.org/jewish-federation-of-the-berkshire
 s/as-shaky-as-a-fiddler-on-the-roof-348974\n\nThe Jewish practice of Mussa
 r\, and the teachings of the Mussar tradition can offer us a framework in 
 which to take the steps we will be taking in this time of uncertainty. 
DTSTART;TZID=America/New_York:20200412T100000
DTEND;TZID=America/New_York:20200412T120000
END:VEVENT
END:VCALENDAR
