BEGIN:VCALENDAR
PRODID:-//eluceo/ical//2.0/EN
VERSION:2.0
CALSCALE:GREGORIAN
BEGIN:VEVENT
UID:9bf85491afc9b5bcaf89a2c34586d9d5
DTSTAMP:20260422T195750Z
SUMMARY:Anna Sokolow: Jewish Roots of American Modern Dance
DESCRIPTION:Jewish Federation of the Berkshires\nJewish Federation of the B
 erkshires\nhttps://jewishberkshires.org/jewish-federation-of-the-berkshire
 s/anna-sokolow-a-jewish-and-modern-dance-hero-for-our-times-502383\n\nVia 
 Zoom.  Please register HERE.\n\nJoin Samantha Geracht\, Artistic Director
  of the Sokolow Theatre Dance Ensemble\, to learn about Anna Sokolow\, a M
 odern Dance pioneer as well as a Jewish voice for justice.   This presen
 tation will trace Sokolow’s history and art. From New York City’s Lowe
 r East Side surrounded by the socialist artistic movement flourishing at t
 he time\, through her development as a world-renowned modernist choreograp
 her\, to her lifelong ties to Israel with its own mode...
DTSTART;TZID=America/New_York:20260122T190000
DTEND;TZID=America/New_York:20260122T200000
END:VEVENT
END:VCALENDAR
