BEGIN:VCALENDAR
PRODID:-//eluceo/ical//2.0/EN
VERSION:2.0
CALSCALE:GREGORIAN
BEGIN:VEVENT
UID:998efef773a29ce9cbd78decd4fec0ae
DTSTAMP:20260423T211931Z
SUMMARY:An October 8th Playbook for an October 8th World
DESCRIPTION:Jewish Federation of the Berkshires\nJewish Federation of the B
 erkshires\nhttps://jewishberkshires.org/jewish-federation-of-the-berkshire
 s/an-october-8th-playbook-for-an-october-8th-world-484252\n\nREGISTER HERE
 .\n\nJoin David Harris\, former Chief Executive Office of the American Jew
 ish Committee (1990-2022) in conversation with Jeff Robbins\, for a timely
 \, incisive and impactful discussion of the issues currently confronting t
 he Jewish people locally and around the globe.\n\nDescribed by the late Is
 raeli President Shimon Peres as "the Foreign Minister of the Jewish people
 \," David Harris has spent nearly 50 years in global Jewish advocacy. Meet
 ing with 10OOs of world leaders\, he has grap...
DTSTART;TZID=America/New_York:20250718T104500
DTEND;TZID=America/New_York:20250718T120000
END:VEVENT
END:VCALENDAR
