BEGIN:VCALENDAR
PRODID:-//eluceo/ical//2.0/EN
VERSION:2.0
CALSCALE:GREGORIAN
BEGIN:VEVENT
UID:5a24d2d44c8cb67e1e3e243cf55898d1
DTSTAMP:20260424T025135Z
SUMMARY:American Maccabee: Theodore Roosevelt and the Jews
DESCRIPTION:Jewish Federation of the Berkshires\nJewish Federation of the B
 erkshires\nhttps://jewishberkshires.org/jewish-federation-of-the-berkshire
 s/american-maccabee-theodore-roosevelt-and-the-jews-500432\n\nVia Zoom.  
 Please register HERE.\n\nJoin Professor Andrew Porwancher as he uncovers t
 he close-knit and often surprising relationship between Theodore Roosevelt
  and the Jewish community.\n\nA scion of the Protestant elite\, Theodore 
 Roosevelt was an unlikely ally of the waves of impoverished Jewish newcome
 rs who crowded the docks at Ellis Island. Yet from his earliest years he f
 orged ties with Jews never before witnessed in a president. American Macc
 abee traces Roosevelt’s deep connection...
DTSTART;TZID=America/New_York:20260326T190000
DTEND;TZID=America/New_York:20260326T200000
END:VEVENT
END:VCALENDAR
