BEGIN:VCALENDAR
PRODID:-//eluceo/ical//2.0/EN
VERSION:2.0
CALSCALE:GREGORIAN
BEGIN:VEVENT
UID:ad1e429cfe047ce83f3d6bfa2765ad88
DTSTAMP:20260420T044207Z
SUMMARY:Alfred Uhry\, The Southern Jewish Playwright
DESCRIPTION:Jewish Federation of the Berkshires\nJewish Federation of the B
 erkshires\nhttps://jewishberkshires.org/jewish-federation-of-the-berkshire
 s/alfred-uhry-the-southern-jewish-playwright-233616\n\nThe Jewish Federati
 on Connecting with Community welcomes dramatist and director of local thea
 ter\, Diane Steinbrink\, who will focus on the life and works of Alfred Uh
 ry\, the southern Jewish playwright.
DTSTART;TZID=America/New_York:20170803T104500
DTEND;TZID=America/New_York:20170803T120000
END:VEVENT
END:VCALENDAR
