BEGIN:VCALENDAR
PRODID:-//eluceo/ical//2.0/EN
VERSION:2.0
CALSCALE:GREGORIAN
BEGIN:VEVENT
UID:d0141e0bc6a9ede9ab739c5f386b2789
DTSTAMP:20260422T043823Z
SUMMARY:Aging a Lifelong Process
DESCRIPTION:Jewish Federation of the Berkshires\nJewish Federation of the B
 erkshires\nhttps://jewishberkshires.org/jewish-federation-of-the-berkshire
 s/aging-a-lifelong-process-----384409\n\nThis program will meet in-person\
 , inside\, in the social hall at Knesset Israel. \n\nProperly fitted mas
 ks are required for all\, regardless of vaccination status. No pre-regist
 ration required\n\nCreated and facilitated by Maggie Bittman\, a licensed 
 mental health councilor who has been in practice for over 40 years.\n\n \
 n\n \n\n \n\nThroughout life's journey\, we each confront four "existent
 ial truths":\n\n\nthe search to find meaning and purpose\nfacing mortality
 \nexperiencing alonene...
DTSTART;TZID=America/New_York:20210920T104500
DTEND;TZID=America/New_York:20210920T120000
END:VEVENT
END:VCALENDAR
