BEGIN:VCALENDAR
PRODID:-//eluceo/ical//2.0/EN
VERSION:2.0
CALSCALE:GREGORIAN
BEGIN:VEVENT
UID:83d6dd82ea7b2ace8f957c04c687888e
DTSTAMP:20260423T215607Z
SUMMARY:Advocating for Healthy Affordable Food in MA
DESCRIPTION:Jewish Federation of the Berkshires\nJewish Federation of the B
 erkshires\nhttps://jewishberkshires.org/jewish-federation-of-the-berkshire
 s/advocating-for-healthy-affordable-food-in-ma-227020\n\nThe Jewish Federa
 tion Connecting with Community program presents "Advocating for Healthy Af
 fordable Food in MA."
DTSTART;TZID=America/New_York:20170612T104500
DTEND;TZID=America/New_York:20170612T120000
END:VEVENT
END:VCALENDAR
