BEGIN:VCALENDAR
PRODID:-//eluceo/ical//2.0/EN
VERSION:2.0
CALSCALE:GREGORIAN
BEGIN:VEVENT
UID:222a6ce356ad4c2d099d4491f95c7b59
DTSTAMP:20260420T091917Z
SUMMARY:Addressing 'The Fear of the Other' in the Berkshires
DESCRIPTION:Jewish Federation of the Berkshires\nJewish Federation of the B
 erkshires\nhttps://jewishberkshires.org/jewish-federation-of-the-berkshire
 s/addressing-the-fear-of-the-other-in-the-berkshires-269247\n\nThe Jewish 
 Federation Connecting with Community presents "Addressing 'The Fear of the
  Other' in the Berkshires."
DTSTART;TZID=America/New_York:20180621T104500
DTEND;TZID=America/New_York:20180621T120000
END:VEVENT
END:VCALENDAR
