BEGIN:VCALENDAR
PRODID:-//eluceo/ical//2.0/EN
VERSION:2.0
CALSCALE:GREGORIAN
BEGIN:VEVENT
UID:519acabc2d80a782f20385467cdd258d
DTSTAMP:20260421T172706Z
SUMMARY:Acts of Assumption
DESCRIPTION:Jewish Federation of the Berkshires\nJewish Federation of the B
 erkshires\nhttps://jewishberkshires.org/jewish-federation-of-the-berkshire
 s/acts-of-assumption-375173\n\nA book about a love affair between a fierce
 ly self-reliant\, mathematically-gifted young Haredi woman and a street-sm
 art\, ambitious and hopelessly-attractive Latina healer.
DTSTART;TZID=America/New_York:20210412T184500
DTEND;TZID=America/New_York:20210412T194500
END:VEVENT
END:VCALENDAR
