BEGIN:VCALENDAR
PRODID:-//eluceo/ical//2.0/EN
VERSION:2.0
CALSCALE:GREGORIAN
BEGIN:VEVENT
UID:97055b33a1bbbcf075311aa626b4a32d
DTSTAMP:20260421T173327Z
SUMMARY:Accidental Gangster: Dutch Schultz and Me
DESCRIPTION:Jewish Federation of the Berkshires\nJewish Federation of the B
 erkshires\nhttps://jewishberkshires.org/jewish-federation-of-the-berkshire
 s/accidental-gangster-dutch-schultz-and-me-414758\n\nVia Zoom. Register fo
 r link HERE.\n\n“Accidental Gangster” is based on true events—Join H
 arriet Goodman Grayson as she shares tales of her grandfather Goldy and gr
 eat grandfather’s days of running booze for Jewish Gangster Dutch Schult
 z through the Rockaways.  Relive the madcap days of prohibition through t
 he story of a fisherman recruited by Schultz to help him transport booze a
 s he walked a thin tightrope avoiding both the federal police as well as r
 ival gangs.\n\nLearn how an ord...
DTSTART;TZID=America/New_York:20221201T184500
DTEND;TZID=America/New_York:20221201T194500
END:VEVENT
END:VCALENDAR
