BEGIN:VCALENDAR
PRODID:-//eluceo/ical//2.0/EN
VERSION:2.0
CALSCALE:GREGORIAN
BEGIN:VEVENT
UID:a57da524b765c44cc3ce02dde322b9d4
DTSTAMP:20260421T092015Z
SUMMARY:A Trumpet at the Walls of Jericho: The Untold Story of Samuel Harri
 son
DESCRIPTION:Jewish Federation of the Berkshires\nJewish Federation of the B
 erkshires\nhttps://jewishberkshires.org/jewish-federation-of-the-berkshire
 s/a-trumpet-at-the-walls-of-jericho-the-untold-story-of-samuel-harrison-23
 7079\n\nThe Jewish Federation Connecting with Community series will screen
  A Trumpet at the Walls of Jericho: The Untold Story of Samuel Harrison\, 
 the story of a 19th century visionary (and freed slave who lived in Pittsf
 ield) who fought prejudice\, slavery and war.
DTSTART;TZID=America/New_York:20171116T104500
DTEND;TZID=America/New_York:20171116T120000
END:VEVENT
END:VCALENDAR
