BEGIN:VCALENDAR
PRODID:-//eluceo/ical//2.0/EN
VERSION:2.0
CALSCALE:GREGORIAN
BEGIN:VEVENT
UID:9dcf659cabcc2aa62320a3638959a333
DTSTAMP:20260419T203909Z
SUMMARY:A Philatelic Tour of the “Righteous Among The Nations"
DESCRIPTION:Jewish Federation of the Berkshires\nJewish Federation of the B
 erkshires\nhttps://jewishberkshires.org/jewish-federation-of-the-berkshire
 s/a-philatelic-tour-of-the-righteous-among-the-nations-190267\n\nThe Jewis
 h Federation of the Berkshires' Connecting with Community welcomes Dr. Edw
 ard Kolodny\, who will share his enthusiasm for stamp collecting in a talk
  titled “A Philatelic Tour of the Righteous Among The Nations.”
DTSTART;TZID=America/New_York:20160623T104500
DTEND;TZID=America/New_York:20160623T120000
END:VEVENT
END:VCALENDAR
