BEGIN:VCALENDAR
PRODID:-//eluceo/ical//2.0/EN
VERSION:2.0
CALSCALE:GREGORIAN
BEGIN:VEVENT
UID:a2e704fed5f2ca2bb78c02be1e596ed5
DTSTAMP:20260421T005733Z
SUMMARY:A Jurassic Park Tu B’shvat Miracle
DESCRIPTION:Jewish Federation of the Berkshires\nJewish Federation of the B
 erkshires\nhttps://jewishberkshires.org/jewish-federation-of-the-berkshire
 s/a-jurassic-park-tu-bshvat-miracle-369711\n\nJoin the Arava Institute for
  Environmental Studies in Israel to learn about the miracle story of how s
 cientists at the institute brought back the long extinct native Judaean D
 ate Palm and it's biblical fruit\, the original honey in the "land flowing
  with milk and honey."   \n\nRegister Here\n\n \n\nThe program is cosp
 onsored by Federation for Jewish Philanthropy of Upper Fairfield County a
 nd the Arava Institute for Environmental Studies. 
DTSTART;TZID=America/New_York:20210126T120000
DTEND;TZID=America/New_York:20210126T130000
END:VEVENT
END:VCALENDAR
