BEGIN:VCALENDAR
PRODID:-//eluceo/ical//2.0/EN
VERSION:2.0
CALSCALE:GREGORIAN
BEGIN:VEVENT
UID:388d009d7b82309078fba52658b15685
DTSTAMP:20260419T204038Z
SUMMARY:A Helluva Town! The Choreography\, Musicals\, & Drama of Jerome Rob
 bins
DESCRIPTION:Jewish Federation of the Berkshires\nJewish Federation of the B
 erkshires\nhttps://jewishberkshires.org/jewish-federation-of-the-berkshire
 s/a-helluva-town-the-choreography-musicals-drama-of-jerome-robbins-483967\
 n\nJoin Laura Wetzler\, singer\, songwriter\, guitarist\, recording artist
  and lecturer in a multimedia presentation that explores the life\, dance\
 , theater\, and film career of Jerome Robbins\, one of America’s most in
 fluential artists.\n\nLaura has devoted years of study and performance to 
 diverse\, multicultural World music\, as well as to the history of America
 n popular entertainment and European Art Music. She takes particular joy i
 n sharing the fascinating and beautiful contributions of Jewish-Am...
DTSTART;TZID=America/New_York:20250626T103000
DTEND;TZID=America/New_York:20250626T120000
END:VEVENT
END:VCALENDAR
