BEGIN:VCALENDAR
PRODID:-//eluceo/ical//2.0/EN
VERSION:2.0
CALSCALE:GREGORIAN
BEGIN:VEVENT
UID:bf90e5f7a8c6ba99773059c2f8bb5a2c
DTSTAMP:20260423T225828Z
SUMMARY:A Day of Holocaust Education and Remembrance to Jewish Heritage Mus
 eum
DESCRIPTION:Jewish Federation of the Berkshires\nJewish Federation of the B
 erkshires\nhttps://jewishberkshires.org/jewish-federation-of-the-berkshire
 s/a-day-of-holocaust-education-and-remembrance-to-jewish-heritage-museum-1
 05906\n\nA Day of Holocaust Education and Remembrance for 7th and 8th grad
 ers
DTSTART;TZID=America/New_York:20171203T080000
DTEND;TZID=America/New_York:20171203T190000
END:VEVENT
END:VCALENDAR
