BEGIN:VCALENDAR
PRODID:-//eluceo/ical//2.0/EN
VERSION:2.0
CALSCALE:GREGORIAN
BEGIN:VEVENT
UID:5d9434c839ff6dded14881d1c2989e97
DTSTAMP:20260422T235728Z
SUMMARY:A Day in the Life
DESCRIPTION:Jewish Federation of the Berkshires\nJewish Federation of the B
 erkshires\nhttps://jewishberkshires.org/jewish-federation-of-the-berkshire
 s/a-day-in-the-life---------294024\n\n"A Day in the Life...\," a three par
 t series being held on Monday\, December 31\, Thursday\, January 24 and Mo
 nday\, February 25.
DTSTART;TZID=America/New_York:20190225T104500
DTEND;TZID=America/New_York:20190225T120000
END:VEVENT
END:VCALENDAR
