BEGIN:VCALENDAR
PRODID:-//eluceo/ical//2.0/EN
VERSION:2.0
CALSCALE:GREGORIAN
BEGIN:VEVENT
UID:6a6dd2581e5ffb181a266b3406073918
DTSTAMP:20260420T001803Z
SUMMARY:A Conversation About Art Appropriation During WWII
DESCRIPTION:Jewish Federation of the Berkshires\nJewish Federation of the B
 erkshires\nhttps://jewishberkshires.org/jewish-federation-of-the-berkshire
 s/a-converstaion-about-art-appropriation-during-wwii-241387\n\nThe Jewish 
 Federation Connecting with Community presents "A Conversation About Art Ap
 propriation During WWII" with David Lane\, co-director of The New England 
 Puppet Intensive and a regular contributor to the internationally recogniz
 ed Old Trout Puppet Workshop in Calgary\, Alberta.  
DTSTART;TZID=America/New_York:20170928T104500
DTEND;TZID=America/New_York:20170928T120000
END:VEVENT
END:VCALENDAR
