BEGIN:VCALENDAR
PRODID:-//eluceo/ical//2.0/EN
VERSION:2.0
CALSCALE:GREGORIAN
BEGIN:VEVENT
UID:7c1aebf09d8519ffadeee7a79e681353
DTSTAMP:20260420T014105Z
SUMMARY:A Childhood in the Netherlands and Living Through the Holocaust
DESCRIPTION:Jewish Federation of the Berkshires\nJewish Federation of the B
 erkshires\nhttps://jewishberkshires.org/jewish-federation-of-the-berkshire
 s/a-childhood-in-the-netherlands-and-living-through-the-holocaust-254558\n
 \nThe Jewish Federation Connecting with Community presents "A Childhood in
  the Netherlands and Living Through the Holocaust."
DTSTART;TZID=America/New_York:20180118T104500
DTEND;TZID=America/New_York:20180118T120000
END:VEVENT
END:VCALENDAR
