BEGIN:VCALENDAR
PRODID:-//eluceo/ical//2.0/EN
VERSION:2.0
CALSCALE:GREGORIAN
BEGIN:VEVENT
UID:22841a10259accdd50de7c6d5b35df36
DTSTAMP:20260422T092604Z
SUMMARY:A Century of the Banjo in Klezmer Music
DESCRIPTION:Jewish Federation of the Berkshires\nJewish Federation of the B
 erkshires\nhttps://jewishberkshires.org/jewish-federation-of-the-berkshire
 s/a-century-of-the-banjo-in-klezmer-music-394169\n\nVia Zoom\n\nRegister H
 ere\n\nThe mass emigration of Eastern European Jews to the United States i
 n the late 19th century occurred while the banjo was a dominant force in A
 merican popular music corresponding to ragtime and jazz -- and the brash n
 ew instrument the tenor banjo -- offered an unfettered ground floor for th
 is new collaboration.\n\nJoin musicologist and performer Henry Sapoznik to
  explore how commercial recordings such as those by Alexander Olshanetsky'
 s Orchestra\, Joseph Cherniavksy...
DTSTART;TZID=America/New_York:20220310T184500
DTEND;TZID=America/New_York:20220310T194500
END:VEVENT
END:VCALENDAR
