BEGIN:VCALENDAR
PRODID:-//eluceo/ical//2.0/EN
VERSION:2.0
CALSCALE:GREGORIAN
BEGIN:VEVENT
UID:6f70d59f46a8e1b9da802ad8f5b3dd58
DTSTAMP:20260420T011827Z
SUMMARY:A Bintel Brief  - A Staged Reading
DESCRIPTION:Jewish Federation of the Berkshires\nJewish Federation of the B
 erkshires\nhttps://jewishberkshires.org/jewish-federation-of-the-berkshire
 s/a-bintel-brief-a-staged-reading-258678\n\nThe Jewish Federation Connecti
 ng with Community program presents "A Bintel Brief: A Staged Reading." wit
 h excerpts from "A Bintel Brief: Sixty Years of Letters from the Lower Eas
 t Side to the Jewish Daily Forward."
DTSTART;TZID=America/New_York:20181011T104500
DTEND;TZID=America/New_York:20181011T120000
END:VEVENT
END:VCALENDAR
