BEGIN:VCALENDAR
PRODID:-//eluceo/ical//2.0/EN
VERSION:2.0
CALSCALE:GREGORIAN
BEGIN:VEVENT
UID:31a1298777394460e916239c25d97755
DTSTAMP:20260425T232904Z
SUMMARY:Community Holocaust Remembrance Event
DESCRIPTION:Jewish Federation of the Berkshires\nJewish Federation of the B
 erkshires\nhttps://jewishberkshires.org/jewish-federation-of-the-berkshire
 s/Holocaust-Remembrance-130398\n\nJewish Federation of the Berkshires pres
 ents a film screening of "B-2247 A Granddaughter's Understanding" by Sara 
 Greenberg in honor of Holocaust Remembrance Day.
DTSTART;TZID=America/New_York:20150412T140000
DTEND;TZID=America/New_York:20150412T170000
END:VEVENT
END:VCALENDAR
