BEGIN:VCALENDAR
PRODID:-//eluceo/ical//2.0/EN
VERSION:2.0
CALSCALE:GREGORIAN
BEGIN:VEVENT
UID:fb27afc2d2a9b969d7d63d80de808b79
DTSTAMP:20260421T231716Z
SUMMARY:20th Century Jewish Russian Immigration
DESCRIPTION:Jewish Federation of the Berkshires\nJewish Federation of the B
 erkshires\nhttps://jewishberkshires.org/jewish-federation-of-the-berkshire
 s/20th-century-jewish-russian-immigration-261897\n\nThe Jewish Federation 
 Connecting with Community presents "20th Century Jewish Russian Immigratio
 n" with author Anastasia Goodman.
DTSTART;TZID=America/New_York:20180409T104500
DTEND;TZID=America/New_York:20180409T120000
END:VEVENT
END:VCALENDAR
