BEGIN:VCALENDAR
PRODID:-//eluceo/ical//2.0/EN
VERSION:2.0
CALSCALE:GREGORIAN
BEGIN:VEVENT
UID:73b099a56acd8096c6565482b3701196
DTSTAMP:20260424T030849Z
SUMMARY:Youth Aliyah Mingle and Munch Reception
DESCRIPTION:Jewish Federation of the Berkshires\nBerkshire Jewish Community
  Calendar\nhttps://jewishberkshires.org/jewish-federation-of-the-berkshire
 s-calendar/youth-aliyah-mingle-and-munch-reception-1519311726\n\nA Youth A
 liyah Reception will be held on Tuesday\, May 29\, 2018\, 2:00 pm to 4:00 
 pm\, at the home of Marcia and Charles Mandel.\nAddress: 7 Gaston Drive
DTSTART;TZID=America/New_York:20180529T140000
DTEND;TZID=America/New_York:20180529T160000
END:VEVENT
END:VCALENDAR
