BEGIN:VCALENDAR
PRODID:-//eluceo/ical//2.0/EN
VERSION:2.0
CALSCALE:GREGORIAN
BEGIN:VEVENT
UID:5a631e07f96e6088d1c322731bf32359
DTSTAMP:20260422T141451Z
SUMMARY:Yom HaShoah: Listening to Jewish Italians Who Lived Through Fascism
DESCRIPTION:Jewish Federation of the Berkshires\nBerkshire Jewish Community
  Calendar\nhttps://jewishberkshires.org/jewish-federation-of-the-berkshire
 s-calendar/yom-hashoah-listening-to-jewish-italians\n\nTo honor Yom Ha-Sho
 ah\, Judith Monachina\, Director of the Housatonic Heritage Oral History C
 enter and author of "Days of Memory: Listening to Jewish Italians Who Live
 d Through Fascism and the Holocaust\," will speak about her research\, the
  people she met\, and connect their stories with a chronicle of her own jo
 urney of discovery.\n\nThis event will take place at Congregation Knesset 
 Israel. A brunch at 10:00 will be followed by the presentation at 10:30.
DTSTART;TZID=America/New_York:20250427T100000
DTEND;TZID=America/New_York:20250427T120000
END:VEVENT
END:VCALENDAR
