BEGIN:VCALENDAR
PRODID:-//eluceo/ical//2.0/EN
VERSION:2.0
CALSCALE:GREGORIAN
BEGIN:VEVENT
UID:9cfcd4581e9abd6075c6521dcc4d65d4
DTSTAMP:20260423T005945Z
SUMMARY:Yom Ha’atzmaut Kabbalat Shabbat and Seder
DESCRIPTION:Jewish Federation of the Berkshires\nBerkshire Jewish Community
  Calendar\nhttps://jewishberkshires.org/jewish-federation-of-the-berkshire
 s-calendar/yom-haatzmaut-kabbalat-shabbat-and-seder-1523971831\n\nOn Frida
 y\, April 27th at 5:30 p.m.\, Temple Anshe Amunim invites the community to
  join in a celebration for Israel’s 70th birthday with a Kabbalat Shabba
 t service followed by a Yom Ha’atzmaut (Israeli Independence Day) seder.
  The seder will feature traditional Israeli foods\, including hummus\, tah
 ini and more.\n\nThe cost for this event is $10/person for TAA members wit
 h a maximum of $30 per family or $15 per person for non-members with a max
 imum of $45 per family. \n\nFor more information...
DTSTART;TZID=America/New_York:20180427T173000
DTEND;TZID=America/New_York:20180427T190000
END:VEVENT
END:VCALENDAR
