BEGIN:VCALENDAR
PRODID:-//eluceo/ical//2.0/EN
VERSION:2.0
CALSCALE:GREGORIAN
BEGIN:VEVENT
UID:b38720727667d815e7a367824d9897f0
DTSTAMP:20260421T160626Z
SUMMARY:Yom Haatzmaut  Shabbat and  Multi-Generational Seder and Dinner.
DESCRIPTION:Jewish Federation of the Berkshires\nBerkshire Jewish Community
  Calendar\nhttps://jewishberkshires.org/jewish-federation-of-the-berkshire
 s-calendar/yom-haatzmaut--shabbat-and--multi-generational-seder-and-dinner
 -1490799473\n\nTemple Anshe Amunim invites the community to join in a week
 end of celebration for Israel’s 69th birthday.On Friday\, May 5th at 5:3
 0 p.m.\, the Religious School will hold a special Yom Haatzmaut (Israel In
 dependence Day) student-led Shabbat service\, followed by a multi-generati
 onal seder and dinner. The seder will feature traditional Israeli foods\, 
 including hummus\, tahini and more\, along with readings and a short video
  presentation.The cost for the seder and dinner is $10 per person for memb
 ...
DTSTART;TZID=America/New_York:20170505T173000
DTEND;TZID=America/New_York:20170507T193000
END:VEVENT
END:VCALENDAR
