BEGIN:VCALENDAR
PRODID:-//eluceo/ical//2.0/EN
VERSION:2.0
CALSCALE:GREGORIAN
BEGIN:VEVENT
UID:a26c94eff6e9dc8a0db0a460926c525a
DTSTAMP:20260421T175459Z
SUMMARY:Yoga Class - Come Relax at Hevreh
DESCRIPTION:Jewish Federation of the Berkshires\nBerkshire Jewish Community
  Calendar\nhttps://jewishberkshires.org/jewish-federation-of-the-berkshire
 s-calendar/yoga-class---come-relax-at-hevreh-1486749583\n\nDo you want to 
 stretch your body and your spirit? 
DTSTART;TZID=America/New_York:20170308T103000
DTEND;TZID=America/New_York:20170308T113000
END:VEVENT
END:VCALENDAR
