BEGIN:VCALENDAR
PRODID:-//eluceo/ical//2.0/EN
VERSION:2.0
CALSCALE:GREGORIAN
BEGIN:VEVENT
UID:e0684e9e33310ad29e13989f3799c1f4
DTSTAMP:20260422T181753Z
SUMMARY:Yoga at Hevreh
DESCRIPTION:Jewish Federation of the Berkshires\nBerkshire Jewish Community
  Calendar\nhttps://jewishberkshires.org/jewish-federation-of-the-berkshire
 s-calendar/yoga-at-hevreh-1422287957\n\nAll levels welcome\, we ask for a 
 donation.
DTSTART;TZID=America/New_York:20150204T103000
DTEND;TZID=America/New_York:20150204T120000
END:VEVENT
END:VCALENDAR
