BEGIN:VCALENDAR
PRODID:-//eluceo/ical//2.0/EN
VERSION:2.0
CALSCALE:GREGORIAN
BEGIN:VEVENT
UID:71481dd91930097df64536e910a068ee
DTSTAMP:20260423T003416Z
SUMMARY:Yizkor Study and Concluding Festival Service
DESCRIPTION:Jewish Federation of the Berkshires\nBerkshire Jewish Community
  Calendar\nhttps://jewishberkshires.org/jewish-federation-of-the-berkshire
 s-calendar/yizkor-study-and-concluding-festival-service-1490368572\n\nOn M
 onday\, April 17\, at 9:30 a.m.\, Rabbi Josh will lead a Torah Plus-style 
 exploration of the texts and rituals of Yizkor\, our memorial service.  To
 gether we&#039\;ll examine El Malei\, our great memorial prayer\, Kaddish 
 Yatom and some contemporary poems.  A meditative service of celebration an
 d memory will follow.
DTSTART;TZID=America/New_York:20170417T093000
DTEND;TZID=America/New_York:20170417T103000
END:VEVENT
END:VCALENDAR
