BEGIN:VCALENDAR
PRODID:-//eluceo/ical//2.0/EN
VERSION:2.0
CALSCALE:GREGORIAN
BEGIN:VEVENT
UID:7888ce783fc8c605abccae81ae99a938
DTSTAMP:20260424T135310Z
SUMMARY:YIDSTOCK CONCERT | Paul Shapiro's Ribs & Brisket
DESCRIPTION:Jewish Federation of the Berkshires\nBerkshire Jewish Community
  Calendar\nhttps://jewishberkshires.org/jewish-federation-of-the-berkshire
 s-calendar/yidstock-concert--paul-shapiros-ribs--brisket-1653578718\n\nPau
 l Shapiro's Ribs & Brisket Revue celebrates the unique era when Jewish mus
 ic was merging into the American mainstream. Blending jazz\, Yiddish swing
 \, R&B\, klezmer\, and humor\, this joyous ensemble swings hard and is end
 lessly entertaining. Featuring vocalists Cilla Owens and Eleanor Reissa\, 
 this program features the 1950s repertoire that underscores The Marvelous 
 Mrs. Maisel\, particularly the music of the Barry Sisters. The band featur
 es Jerry Koran on piano\, Dave Hofstra on bass\, and Tony L...
DTSTART;TZID=America/New_York:20220709T200000
DTEND;TZID=America/New_York:20220709T213000
END:VEVENT
END:VCALENDAR
