BEGIN:VCALENDAR
PRODID:-//eluceo/ical//2.0/EN
VERSION:2.0
CALSCALE:GREGORIAN
BEGIN:VEVENT
UID:d27bd002c4034ccdba8b5e7491cfc7e5
DTSTAMP:20260420T144440Z
SUMMARY:YIDSTOCK  CONCERT | Ezekiel's Wheels Klezmer Band
DESCRIPTION:Jewish Federation of the Berkshires\nBerkshire Jewish Community
  Calendar\nhttps://jewishberkshires.org/jewish-federation-of-the-berkshire
 s-calendar/yidstock--concert--ezekiels-wheels-klezmer-band-1492531998\n\nE
 zekiel's Wheels Klezmer Band brings passion\, virtuosity\, and contagious 
 energy to every performance\, with the intimacy of chamber music and the i
 ntensity of a rowdy dance band. The Wheels unique style was forged in the 
 subway stations and farmers markets of Boston\, where the informal setting
  and ever-changing audience created an ideal environment for musical exper
 imentation. They honed their craft with bulgars and 1990s pop covers for t
 he morning rush hour and mixed doinas and zhoks with fre...
DTSTART;TZID=America/New_York:20170716T120000
DTEND;TZID=America/New_York:20170716T131500
END:VEVENT
END:VCALENDAR
