BEGIN:VCALENDAR
PRODID:-//eluceo/ical//2.0/EN
VERSION:2.0
CALSCALE:GREGORIAN
BEGIN:VEVENT
UID:e3fa46ffa4e768fb03917a87a1c978a4
DTSTAMP:20260420T030555Z
SUMMARY:Yiddish Songs and Stories for Today: A Live Performance
DESCRIPTION:Jewish Federation of the Berkshires\nBerkshire Jewish Community
  Calendar\nhttps://jewishberkshires.org/jewish-federation-of-the-berkshire
 s-calendar/yiddishsongs\n\nsongs and stories will feature a live performan
 ce of both traditional and modern Yiddish songs designed for plenty of aud
 ience participation
DTSTART;TZID=America/New_York:20210204T184500
DTEND;TZID=America/New_York:20210204T194500
END:VEVENT
END:VCALENDAR
