BEGIN:VCALENDAR
PRODID:-//eluceo/ical//2.0/EN
VERSION:2.0
CALSCALE:GREGORIAN
BEGIN:VEVENT
UID:ed5d87250c17c5d6663775c17590fa29
DTSTAMP:20260422T164028Z
SUMMARY:Yiddish Book Center Community Open House
DESCRIPTION:Jewish Federation of the Berkshires\nBerkshire Jewish Community
  Calendar\nhttps://jewishberkshires.org/jewish-federation-of-the-berkshire
 s-calendar/yiddish-book-center-community-open-house-1534796013\n\nA day of
  events for the whole family\, featuring a talk with David Mazower\, a Yid
 dish print shop demonstration\, a performance by Litvakus\, tours\, scaven
 ger hunts\, and more
DTSTART;TZID=America/New_York:20181021T100000
DTEND;TZID=America/New_York:20181021T160000
END:VEVENT
END:VCALENDAR
