BEGIN:VCALENDAR
PRODID:-//eluceo/ical//2.0/EN
VERSION:2.0
CALSCALE:GREGORIAN
BEGIN:VEVENT
UID:f03c224b1fa2835daad85990d70a714c
DTSTAMP:20260422T133535Z
SUMMARY:Yachad Shabbat at Hevreh - Come Together With Us!
DESCRIPTION:Jewish Federation of the Berkshires\nBerkshire Jewish Community
  Calendar\nhttps://jewishberkshires.org/jewish-federation-of-the-berkshire
 s-calendar/yachad-shabbat-at-hevreh---come-together-with-us-1486748861\n\n
 We’ll be joining together in prayer and song.
DTSTART;TZID=America/New_York:20170325T100000
DTEND;TZID=America/New_York:20170325T123000
END:VEVENT
END:VCALENDAR
