BEGIN:VCALENDAR
PRODID:-//eluceo/ical//2.0/EN
VERSION:2.0
CALSCALE:GREGORIAN
BEGIN:VEVENT
UID:fad41c935132b3ad8bb146922e3adf1a
DTSTAMP:20260423T202805Z
SUMMARY:Yachad Annual Italian Dinner
DESCRIPTION:Jewish Federation of the Berkshires\nBerkshire Jewish Community
  Calendar\nhttps://jewishberkshires.org/jewish-federation-of-the-berkshire
 s-calendar/yachad-annual-italian-dinner-24849\n\nYachad Annual Italian Din
 ner
DTSTART;TZID=America/New_York:20131124T170000
DTEND;TZID=America/New_York:20131124T190000
END:VEVENT
END:VCALENDAR
