BEGIN:VCALENDAR
PRODID:-//eluceo/ical//2.0/EN
VERSION:2.0
CALSCALE:GREGORIAN
BEGIN:VEVENT
UID:6b754cd49f558f920b72719b7e39cb3c
DTSTAMP:20260422T103225Z
SUMMARY:WRJ Special Kabbalat Shabbat Service
DESCRIPTION:Jewish Federation of the Berkshires\nBerkshire Jewish Community
  Calendar\nhttps://jewishberkshires.org/jewish-federation-of-the-berkshire
 s-calendar/wrj-special-kabbalat-shabbat-service-1478029363\n\nWomen of Ref
 orm Judaism sponsor a special Kabbalat Shabbat Service.
DTSTART;TZID=America/New_York:20170428T190000
DTEND;TZID=America/New_York:20170428T203000
END:VEVENT
END:VCALENDAR
