BEGIN:VCALENDAR
PRODID:-//eluceo/ical//2.0/EN
VERSION:2.0
CALSCALE:GREGORIAN
BEGIN:VEVENT
UID:86d1e22d5943b147d0f23bb6c5e05827
DTSTAMP:20260422T144239Z
SUMMARY:Writing to Right the World
DESCRIPTION:Jewish Federation of the Berkshires\nBerkshire Jewish Community
  Calendar\nhttps://jewishberkshires.org/jewish-federation-of-the-berkshire
 s-calendar/writing-to-right-the-world\n\nThe Jewish Federation Connecting 
 with Community program welcomes Jana Laiz for "Writing to Right the World.
 "
DTSTART;TZID=America/New_York:20170622T104500
DTEND;TZID=America/New_York:20170622T120000
END:VEVENT
END:VCALENDAR
