BEGIN:VCALENDAR
PRODID:-//eluceo/ical//2.0/EN
VERSION:2.0
CALSCALE:GREGORIAN
BEGIN:VEVENT
UID:b03a1743002daad516e5962efefe7951
DTSTAMP:20260421T101535Z
SUMMARY:Women of Reform Judaism Brunch and Presentation by Robyn Rosen
DESCRIPTION:Jewish Federation of the Berkshires\nBerkshire Jewish Community
  Calendar\nhttps://jewishberkshires.org/jewish-federation-of-the-berkshire
 s-calendar/women-of-reform-judaism-brunch-and-presentation-by-robyn-rosen\
 n\nWRJ Brunch and Presentation by Robyn Rosen
DTSTART;TZID=America/New_York:20130609T103000
DTEND;TZID=America/New_York:20130609T123000
END:VEVENT
END:VCALENDAR
