BEGIN:VCALENDAR
PRODID:-//eluceo/ical//2.0/EN
VERSION:2.0
CALSCALE:GREGORIAN
BEGIN:VEVENT
UID:b32602733f34e5ccbd6e6879bc63cec4
DTSTAMP:20260420T094513Z
SUMMARY:Women of Hadassah: Lighting the Way        
DESCRIPTION:Jewish Federation of the Berkshires\nBerkshire Jewish Community
  Calendar\nhttps://jewishberkshires.org/jewish-federation-of-the-berkshire
 s-calendar/women-of-hadassah-lighting-the-way-24809\n\nHadassah Northeast 
 Leadership Retreat
DTSTART;TZID=America/New_York:20131115T140000
DTEND;TZID=America/New_York:20131117T150000
END:VEVENT
END:VCALENDAR
