BEGIN:VCALENDAR
PRODID:-//eluceo/ical//2.0/EN
VERSION:2.0
CALSCALE:GREGORIAN
BEGIN:VEVENT
UID:5cf689d976565f89f803ff9f2bf62a8d
DTSTAMP:20260421T233222Z
SUMMARY:Women Making Trouble: Honoring Our Biblical Mothers
DESCRIPTION:Jewish Federation of the Berkshires\nBerkshire Jewish Community
  Calendar\nhttps://jewishberkshires.org/jewish-federation-of-the-berkshire
 s-calendar/women-making-trouble-honoring-our-biblical-mothers-1741030760\n
 \nEach week\, Rabbi Pam Wax will guide participants through select texts a
 bout two or more Biblical women\, alongside contemporary feminist midrashi
 m (including music\, visual art\, and poetry) that respond to those texts.
  We will pay particular attention to how these forebears navigated a patri
 archal and oppressive social and political order\, looking to these women 
 for guidance as to how to resist (or accommodate to) injustice in dark tim
 es and extreme situations. Future dates are May 21\, May 28\, ...
DTSTART;TZID=America/New_York:20250430T170000
DTEND;TZID=America/New_York:20250430T183000
END:VEVENT
END:VCALENDAR
