BEGIN:VCALENDAR
PRODID:-//eluceo/ical//2.0/EN
VERSION:2.0
CALSCALE:GREGORIAN
BEGIN:VEVENT
UID:e22c85e3dda49c9294e7045f256458c0
DTSTAMP:20260421T153950Z
SUMMARY:Wolfe Cantorial Concert featuring Cantor Elias Rosemberg
DESCRIPTION:Jewish Federation of the Berkshires\nBerkshire Jewish Community
  Calendar\nhttps://jewishberkshires.org/jewish-federation-of-the-berkshire
 s-calendar/wolfe-cantorial-concert-featuring-cantor-elias-rosemberg\n\nCan
 tor Elias Rosemberg Concert & Light Supper
DTSTART;TZID=America/New_York:20130804T170000
DTEND;TZID=America/New_York:20130804T204500
END:VEVENT
END:VCALENDAR
