BEGIN:VCALENDAR
PRODID:-//eluceo/ical//2.0/EN
VERSION:2.0
CALSCALE:GREGORIAN
BEGIN:VEVENT
UID:c03a888f886a3946bfbdde0e3cf18905
DTSTAMP:20260419T184218Z
SUMMARY:CANCELED Winter Hadassah Cabaret
DESCRIPTION:Jewish Federation of the Berkshires\nBerkshire Jewish Community
  Calendar\nhttps://jewishberkshires.org/jewish-federation-of-the-berkshire
 s-calendar/winter-hadassah-cabaret-1540835727\n\nTHIS EVENT HAS BEEN CANCE
 LED\n\nAfternoon cabaret with coffee and desserts\, featuring music from J
 ewish composers from Broadway to rock.
DTSTART;TZID=America/New_York:20190120T160000
DTEND;TZID=America/New_York:20190120T180000
END:VEVENT
END:VCALENDAR
