BEGIN:VCALENDAR
PRODID:-//eluceo/ical//2.0/EN
VERSION:2.0
CALSCALE:GREGORIAN
BEGIN:VEVENT
UID:7a23edc04551e01b1a81548f7662fb45
DTSTAMP:20260422T124607Z
SUMMARY:Wildman Shabbaton with Rabbi Steve Sager
DESCRIPTION:Jewish Federation of the Berkshires\nBerkshire Jewish Community
  Calendar\nhttps://jewishberkshires.org/jewish-federation-of-the-berkshire
 s-calendar/wildman-shabbaton-with-rabbi-steve-sager-43909\n\nWildman Shabb
 aton with Rabbi Steve Sager
DTSTART;TZID=America/New_York:20140509T093000
DTEND;TZID=America/New_York:20140510T120000
END:VEVENT
END:VCALENDAR
