BEGIN:VCALENDAR
PRODID:-//eluceo/ical//2.0/EN
VERSION:2.0
CALSCALE:GREGORIAN
BEGIN:VEVENT
UID:3115ac3a19a5c7ef4c4ef44e170f622b
DTSTAMP:20260421T025534Z
SUMMARY:Why the Vote Mattered & Why It Didn't
DESCRIPTION:Jewish Federation of the Berkshires\nBerkshire Jewish Community
  Calendar\nhttps://jewishberkshires.org/jewish-federation-of-the-berkshire
 s-calendar/why-the-vote-mattered--why-it-didnt-1560867421\n\nJoin Dr. Roby
 n Rosen for a presentation where she will examine the suffrage victory in 
 the broader context of concerns and demands that animated women reformers 
 from the 1920s through the 1970s.\n\nFree for members\; not-yet-members $5
DTSTART;TZID=America/New_York:20190702T113000
DTEND;TZID=America/New_York:20190702T130000
END:VEVENT
END:VCALENDAR
