BEGIN:VCALENDAR
PRODID:-//eluceo/ical//2.0/EN
VERSION:2.0
CALSCALE:GREGORIAN
BEGIN:VEVENT
UID:b6a7cf5efb0d2ac9c88746692aa84bd6
DTSTAMP:20260424T080204Z
SUMMARY:The Invisibles: Community Film Screening–Holocaust Remembrance
DESCRIPTION:Jewish Federation of the Berkshires\nBerkshire Jewish Community
  Calendar\nhttps://jewishberkshires.org/jewish-federation-of-the-berkshire
 s-calendar/who-will-write-our-story-community-film-screeningholocaust-reme
 mbrance\n\nJoin us for a community commemoration of Yom HaShoah-Holocaust 
 Remembrance Day featuring the film screening of The Invisibles followed by
  candle lighting and prayers of remembrance. \n\nRegister Here\n\nPLEASE
  NOTE: This program is planned for an in-person screening.  Spa
 ce is limited.  Masks and proof of COVID vaccination are required for
  entry.\n\nThe Invisibles\n\nWhile Goebbels infamously declared Berlin “
 free of Jews” in 1943\, 1\,700 managed to survive in the Nazi cap...
DTSTART;TZID=America/New_York:20220424T140000
DTEND;TZID=America/New_York:20220424T160000
END:VEVENT
END:VCALENDAR
