BEGIN:VCALENDAR
PRODID:-//eluceo/ical//2.0/EN
VERSION:2.0
CALSCALE:GREGORIAN
BEGIN:VEVENT
UID:382168472dddd2aa7249072d7936df84
DTSTAMP:20260421T211543Z
SUMMARY:Who was Festus Campbell?
DESCRIPTION:Jewish Federation of the Berkshires\nBerkshire Jewish Community
  Calendar\nhttps://jewishberkshires.org/jewish-federation-of-the-berkshire
 s-calendar/who-was-festus-campbell\n\nThe Jewish Federation Connecting wit
 h Community series presents "Festus Campbell - 2960 miles and 42 steps" wi
 th author Bernard A. Drew
DTSTART;TZID=America/New_York:20170112T104500
DTEND;TZID=America/New_York:20170112T120000
END:VEVENT
END:VCALENDAR
