BEGIN:VCALENDAR
PRODID:-//eluceo/ical//2.0/EN
VERSION:2.0
CALSCALE:GREGORIAN
BEGIN:VEVENT
UID:1c2867c7398e2c3cd39644a7ca7578e9
DTSTAMP:20260422T102929Z
SUMMARY:When a Lie is Not a Sin\, with Rabbi Dennis Ross
DESCRIPTION:Jewish Federation of the Berkshires\nBerkshire Jewish Community
  Calendar\nhttps://jewishberkshires.org/jewish-federation-of-the-berkshire
 s-calendar/when-a-lie-is-not-a-sin-with-rabbi-dennis-ross-1463586656\n\nIs
  omitting the truth the same as lying? Why is lying OK when life is at sta
 ke? Do kids need to be told the whole truth? Can a small lie serve a great
 er truth? Just as the Hebrew Bible is true and wants us to tell the truth\
 , it also describes lies that go unpunished as well as lies that are actua
 lly rewarded. Join us for Shabbat Services when Rabbi Dennis Ross will tea
 ch us from his new book When a Lie Is Not a Sin: The Hebrew Bible’s Fram
 ework for Deciding\, which shows how telling a lie ma...
DTSTART;TZID=America/New_York:20160622T193000
DTEND;TZID=America/New_York:20160622T213000
END:VEVENT
END:VCALENDAR
