BEGIN:VCALENDAR
PRODID:-//eluceo/ical//2.0/EN
VERSION:2.0
CALSCALE:GREGORIAN
BEGIN:VEVENT
UID:4a819de733b022896b0239fc86014757
DTSTAMP:20260419T174442Z
SUMMARY:What's Your Story?  Oral History & Legacy Interviewing Workshop
DESCRIPTION:Jewish Federation of the Berkshires\nBerkshire Jewish Community
  Calendar\nhttps://jewishberkshires.org/jewish-federation-of-the-berkshire
 s-calendar/whats-your-story--oral-history--legacy-interviewing-workshop-17
 07241345\n\nWhat's Your Story?\n\nAn oral history and legacy interviewing 
 workshop with Adam Phillips of FamilyLore.
DTSTART;TZID=America/New_York:20240305T130000
DTEND;TZID=America/New_York:20240305T160000
END:VEVENT
END:VCALENDAR
