BEGIN:VCALENDAR
PRODID:-//eluceo/ical//2.0/EN
VERSION:2.0
CALSCALE:GREGORIAN
BEGIN:VEVENT
UID:b4098348ffed26ca065c3bd5d462db8e
DTSTAMP:20260422T103305Z
SUMMARY:What Makes Jewish Humor....Humorous?
DESCRIPTION:Jewish Federation of the Berkshires\nBerkshire Jewish Community
  Calendar\nhttps://jewishberkshires.org/jewish-federation-of-the-berkshire
 s-calendar/what-makes-jewish-humorhumorous\n\nThe Jewish Federation Connec
 ting with Community presents "What Makes Jewish Humor....Humorous?"
DTSTART;TZID=America/New_York:20171019T104500
DTEND;TZID=America/New_York:20171019T120000
END:VEVENT
END:VCALENDAR
